BEGIN:VCALENDAR
VERSION:2.0
PRODID:-//wp-events-plugin.com//7.2.3.1//EN
TZID:Europe/Berlin
X-WR-TIMEZONE:Europe/Berlin
BEGIN:VEVENT
UID:1270@qbel.berlin
DTSTART;TZID=Europe/Berlin:20260423T183000
DTEND;TZID=Europe/Berlin:20260423T220000
DTSTAMP:20260414T094850Z
URL:https://qbel.berlin/events/community-goes-kaktus-comedy-2/
SUMMARY:Community goes (Kaktus-)Comedy!
DESCRIPTION:Termin: Donnerstag \nUhrzeit: 18:30 bis 22 Uhr\nOrt: Q*BeL\, Ei
 telstraße 85\, 10317 Berlin / Interkosmos Bar\, Fanningerstr. 47\, 10365 
 Berlin
ATTACH;FMTTYPE=image/jpeg:https://qbel.berlin/wp-content/uploads/2026/04/k
 aktus-comedy-.jpg
END:VEVENT
BEGIN:VTIMEZONE
TZID:Europe/Berlin
X-LIC-LOCATION:Europe/Berlin
BEGIN:DAYLIGHT
DTSTART:20260329T030000
TZOFFSETFROM:+0100
TZOFFSETTO:+0200
TZNAME:CEST
END:DAYLIGHT
END:VTIMEZONE
END:VCALENDAR